View In:
ArcGIS JavaScript
🌍 EEA Discomap Portal
ArcGIS Earth
ArcMap
View Footprint In:
🌍 EEA Discomap Portal
Service Description: The map shows the 3 years annual average concentration (2018-2020) of PM25 in 2020
Coverage Countries: EEA 38 except Turkey
Data source: EEA
Name: EnvHealthAtlas/PM25_avg3
Description: The map shows the 3 years annual average concentration (2018-2020) of PM25 in 2020
Coverage Countries: EEA 38 except Turkey
Data source: EEA
Single Fused Map Cache: false
Extent:
XMin: 2635500
YMin: 1385500
XMax: 6525500
YMax: 5415500
Spatial Reference: 3035
(3035)
Initial Extent:
XMin: 2635500
YMin: 1385500
XMax: 6525500
YMax: 5415500
Spatial Reference: 3035
(3035)
Full Extent:
XMin: 2635500
YMin: 1385500
XMax: 6525500
YMax: 5415500
Spatial Reference: 3035
(3035)
Pixel Size X: 1000.0
Pixel Size Y: 1000.0
Band Count: 1
Pixel Type: F64
RasterFunction Infos: {"rasterFunctionInfos": [{
"name": "None",
"description": "",
"help": ""
}]}
Mensuration Capabilities: Basic
Has Histograms: true
Has Colormap: false
Has Multi Dimensions : false
Rendering Rule:
Min Scale: 0
Max Scale: 0
Copyright Text:
Service Data Type: esriImageServiceDataTypeGeneric
Min Values: 0.7
Max Values: 82.9
Mean Values: 7.70084470549395
Standard Deviation Values: 4.535528786921048
Object ID Field:
Fields:
None
Default Mosaic Method: Center
Allowed Mosaic Methods:
SortField:
SortValue: null
Mosaic Operator: First
Default Compression Quality: 75
Default Resampling Method: Nearest
Max Record Count: null
Max Image Height: 4100
Max Image Width: 15000
Max Download Image Count: null
Max Mosaic Image Count: null
Allow Raster Function: true
Allow Copy: true
Allow Analysis: true
Allow Compute TiePoints: false
Supports Statistics: false
Supports Advanced Queries: false
Use StandardizedQueries: false
Raster Type Infos:
Name: Raster Dataset
Description: Supports all ArcGIS Raster Datasets
Help:
Has Raster Attribute Table: false
Edit Fields Info: null
Ownership Based AccessControl For Rasters: null
Child Resources:
Info
Histograms
Statistics
Key Properties
Legend
Raster Function Infos
Supported Operations:
Export Image
Identify
Measure
Compute Histograms
Compute Statistics Histograms
Get Samples
Compute Class Statistics
Query Boundary
Compute Pixel Location
Compute Angles
Validate
Project