{
 "currentVersion": 11.5,
 "serviceDescription": "The map shows the 3 years annual average concentration (2019-2021) of PM25\n\nFine particles, also called PM\u2082.\u2085, are the most hazardous air pollutants commonly found in ambient air. They can cause a wide range of negative health impacts and affect several organs in our bodies. The map below shows average concentrations throughout the period 2019-2021, expressed in µg/mᵌ. Higher concentrations (orange to red) are more hazardous than lower concentrations (green), but there is no safe concentration of fine particles.",
 "name": "EnvHealthAtlas/PM25_avg3",
 "description": "The map shows the 3 years annual average concentration (2019-2021) of PM25\n\nFine particles, also called PM\u2082.\u2085, are the most hazardous air pollutants commonly found in ambient air. They can cause a wide range of negative health impacts and affect several organs in our bodies. The map below shows average concentrations throughout the period 2019-2021, expressed in µg/mᵌ. Higher concentrations (orange to red) are more hazardous than lower concentrations (green), but there is no safe concentration of fine particles.",
 "extent": {
  "xmin": 2635500,
  "ymin": 1385500,
  "xmax": 6562500,
  "ymax": 5415500,
  "spatialReference": {
   "wkid": 3035,
   "latestWkid": 3035
  }
 },
 "initialExtent": {
  "xmin": 2635500,
  "ymin": 1385500,
  "xmax": 6562500,
  "ymax": 5415500,
  "spatialReference": {
   "wkid": 3035,
   "latestWkid": 3035
  }
 },
 "fullExtent": {
  "xmin": 2635500,
  "ymin": 1385500,
  "xmax": 6562500,
  "ymax": 5415500,
  "spatialReference": {
   "wkid": 3035,
   "latestWkid": 3035
  }
 },
 "sortableFields": "",
 "bandCount": 1,
 "pixelType": "F64",
 "minValues": [
  0.7
 ],
 "maxValues": [
  37.9
 ],
 "meanValues": [
  7.302374396956412
 ],
 "stdvValues": [
  4.171921525261105
 ],
 "serviceProperties": "Center<\/MosaicMethod>First<\/MosaicOperator>true<\/SortAscending><\/LockImageID><\/TileOrderField>0<\/TileOrderBase>0.000000<\/AvgImageSpacingX>0.000000<\/AvgImageSpacingY>0.0<\/ViewPointX>0.0<\/ViewPointY>0.0<\/ViewPointDefShiftX>0.0<\/ViewPointDefShiftY>None<\/CompressionMethod>75<\/CompressionQuality>0.010000<\/CompressionTolerance>Nearest<\/SamplingMethod><\/ImageServiceProperties><\/ImageServer>",
 "allowedFields": "",
 "hasMultidimensions": false,
 "pixelSizeX": 1000,
 "pixelSizeY": 1000,
 "meanPixelSize": 1000,
 "datasetFormat": "FGDBR",
 "uncompressedSize": 126606480,
 "blockWidth": 128,
 "blockHeight": 128,
 "compressionType": "NONE",
 "bandNames": [
  "Band_1"
 ],
 "allowCopy": true,
 "allowAnalysis": true,
 "itemAccess": false,
 "inspectionCapabilities": "",
 "minPixelSize": 0,
 "maxPixelSize": 0,
 "copyrightText": "© European Environment Agency",
 "serviceDataType": "esriImageServiceDataTypeGeneric",
 "serviceSourceType": "esriImageServiceSourceTypeDataset",
 "objectIdField": "",
 "fields": [],
 "capabilities": "Mensuration,Image,Metadata",
 "defaultMosaicMethod": "Center",
 "allowedMosaicMethods": "",
 "sortField": "",
 "sortValue": null,
 "sortAscending": true,
 "mosaicOperator": "First",
 "defaultCompressionQuality": 75,
 "defaultResamplingMethod": "Nearest",
 "maxImageHeight": 4100,
 "maxImageWidth": 15000,
 "allowRasterFunction": true,
 "rasterFunctionInfos": [
  {
   "name": "Annual average concentration pm2.5",
   "description": "Annual average concentration pm2.5",
   "help": "Annual average concentration pm2.5"
  },
  {
   "name": "None",
   "description": "",
   "help": ""
  }
 ],
 "rasterTypeInfos": [
  {
   "name": "Raster Dataset",
   "description": "Supports all ArcGIS Raster Datasets",
   "help": ""
  }
 ],
 "mensurationCapabilities": "Basic",
 "hasHistograms": true,
 "hasColormap": false,
 "hasRasterAttributeTable": false,
 "minScale": 0,
 "maxScale": 0,
 "exportTilesAllowed": false,
 "supportsStatistics": false,
 "supportsAdvancedQueries": false,
 "editFieldsInfo": null,
 "ownershipBasedAccessControlForRasters": null,
 "allowComputeTiePoints": false,
 "useStandardizedQueries": false,
 "advancedQueryCapabilities": {
  "useStandardizedQueries": false,
  "supportsStatistics": false,
  "supportsOrderBy": false,
  "supportsDistinct": false,
  "supportsPagination": false
 },
 "spatialReference": {
  "wkid": 3035,
  "latestWkid": 3035
 },
 "resampling": false
}
