View In:
ArcGIS JavaScript
EEA Discomap Portal
ArcGIS Earth
Service Description: Soil pH in Europe
Name: FISE/Soil_pH_Europe
Description: Soil pH in Europe
Single Fused Map Cache: false
Extent:
XMin: -3500266.8154927087
YMin: 4035099.674411986
XMax: 5624733.184507292
YMax: 1.1730099674411986E7
Spatial Reference: 102100
(3857)
LatestVCSWkid(0)
Initial Extent:
XMin: -3500266.8154927087
YMin: 4035099.674411986
XMax: 5624733.184507292
YMax: 1.1730099674411986E7
Spatial Reference: 102100
(3857)
LatestVCSWkid(0)
Full Extent:
XMin: -3500266.8154927087
YMin: 4035099.674411986
XMax: 5624733.184507292
YMax: 1.1730099674411986E7
Spatial Reference: 102100
(3857)
LatestVCSWkid(0)
Pixel Size X: 5000.0
Pixel Size Y: 5000.0
Band Count: 1
Pixel Type: F32
RasterFunction Infos: {"rasterFunctionInfos": [
{
"name": "phSoilEurope",
"description": "A raster function template.",
"help": ""
},
{
"name": "None",
"description": "",
"help": ""
}
]}
Mensuration Capabilities: Basic
Inspection Capabilities:
Has Histograms: true
Has Colormap: false
Has Multi Dimensions : false
Rendering Rule:
Min Scale: 0
Max Scale: 0
Copyright Text: "CONTINENTAL-SCALE DIGITAL SOIL MAPPING USING EUROPEAN SOIL PROFILE DATA: SOIL PH", Hannes Isaak Reuter, Luis Rodriguez Lado, Tomislav Hengl & Luca Montanarella, Hamburger Beiträge zur Physischen Geographie und Landschaftsökologie – 92 Heft 19/2008, pp. 91-102. (in Böhner, J., Blaschke, T., Montanarella, L. [Eds.] (2008): SAGA – Seconds Out. Hamburger Beiträge zur Physischen Geographie und Landschaftsökologie, Vol.19, 113pp.)
Service Data Type: esriImageServiceDataTypeGeneric
Min Values: 0.95584726333618
Max Values: 8.8063116073608
Mean Values: 5.1115206913254
Standard Deviation Values: 0.83848803473974
Object ID Field:
Fields:
None
Default Mosaic Method: Center
Allowed Mosaic Methods:
SortField:
SortValue: null
Mosaic Operator: First
Default Compression Quality: 75
Default Resampling Method: Nearest
Max Record Count: null
Max Image Height: 4100
Max Image Width: 15000
Max Download Image Count: null
Max Mosaic Image Count: null
Allow Raster Function: true
Allow Copy: true
Allow Analysis: true
Allow Compute TiePoints: false
Supports Statistics: false
Supports Advanced Queries: false
Use StandardizedQueries: false
Raster Type Infos:
Name: Raster Dataset
Description: Supports all ArcGIS Raster Datasets
Help:
Has Raster Attribute Table: false
Edit Fields Info: null
Ownership Based AccessControl For Rasters: null
Child Resources:
Info
Histograms
Statistics
Key Properties
Legend
Raster Function Infos
Supported Operations:
Export Image
Identify
Measure
Compute Histograms
Compute Statistics Histograms
Get Samples
Compute Class Statistics
Query Boundary
Compute Pixel Location
Compute Angles
Validate
Project