View In:
ArcGIS JavaScript
EEA Discomap Portal
ArcGIS Earth
Service Description: AQModelViewer_EEA/AQ_6001_P1Y
Name: AQModelViewer_EEA/AQ_6001_P1Y
Description:
Single Fused Map Cache: false
Extent:
XMin: -5553210.767999999
YMin: 3286771.325199999
XMax: 7879319.232000001
YMax: 1.1717041325199999E7
Spatial Reference: 102100
(3857)
Initial Extent:
XMin: -5553210.767999999
YMin: 3286771.325199999
XMax: 7879319.232000001
YMax: 1.1717041325199999E7
Spatial Reference: 102100
(3857)
Full Extent:
XMin: -5553210.767999999
YMin: 3286771.325199999
XMax: 7879319.232000001
YMax: 1.1717041325199999E7
Spatial Reference: 102100
(3857)
Time Info:
Start Time Field: YEAR
End Time Field: YEAR
Time Extent:
[2014/01/01 00:00:00 UTC, 2022/01/01 00:00:00 UTC]
Time Reference:
N/A
Pixel Size X: 30.0
Pixel Size Y: 30.0
Band Count: 1
Pixel Type: F64
RasterFunction Infos: {"rasterFunctionInfos": [
{
"help": "",
"name": "AQ_6001_P1Y",
"description": "A raster function template."
},
{
"help": "",
"name": "Blues continues",
"description": "Blues continues represent ozone"
},
{
"help": "",
"name": "Oranges continues",
"description": "Oragnes continues represent NO2"
},
{
"help": "",
"name": "Purple to green",
"description": "purple to green continues"
},
{
"help": "",
"name": "Red to yellow to green",
"description": "red - yellow -green"
},
{
"help": "",
"name": "Yellow to orange to brown",
"description": "yellow orange brown colors"
},
{
"help": "",
"name": "Yellow to red",
"description": "yellow to red"
},
{
"help": "",
"name": "None",
"description": "Make a Raster or Raster Dataset into a Function Raster Dataset."
}
]}
Mensuration Capabilities: NONE,Basic
Inspection Capabilities:
Has Histograms: true
Has Colormap: false
Has Multi Dimensions : false
Rendering Rule:
Min Scale: 0
Max Scale: 0
Resampling: false
Copyright Text:
Service Data Type: esriImageServiceDataTypeGeneric
Min Values: 1.4928516149520874
Max Values: 39.227031707763672
Mean Values: 7.7578281262049691
Standard Deviation Values: 4.3616696462429196
Object ID Field: OBJECTID
Fields:
-
OBJECTID
(
alias: OBJECTID, type: esriFieldTypeOID
)
-
Shape
(
alias: Shape, type: esriFieldTypeGeometry
)
-
Name
(
length: 200, alias: Name, type: esriFieldTypeString
)
-
MinPS
(
alias: MinPS, type: esriFieldTypeDouble
)
-
MaxPS
(
alias: MaxPS, type: esriFieldTypeDouble
)
-
LowPS
(
alias: LowPS, type: esriFieldTypeDouble
)
-
HighPS
(
alias: HighPS, type: esriFieldTypeDouble
)
-
Category
(
alias: Category, type: esriFieldTypeInteger
, Coded Values:
[0: Unknown]
, [1: Primary]
, [2: Overview]
, ...6 more...
)
-
Tag
(
length: 100, alias: Tag, type: esriFieldTypeString
)
-
GroupName
(
length: 100, alias: GroupName, type: esriFieldTypeString
)
-
ProductName
(
length: 100, alias: ProductName, type: esriFieldTypeString
)
-
CenterX
(
alias: CenterX, type: esriFieldTypeDouble
)
-
CenterY
(
alias: CenterY, type: esriFieldTypeDouble
)
-
ZOrder
(
alias: ZOrder, type: esriFieldTypeInteger
)
-
Shape_Length
(
alias: Shape_Length, type: esriFieldTypeDouble
)
-
Shape_Area
(
alias: Shape_Area, type: esriFieldTypeDouble
)
-
year
(
length: 8, alias: year, type: esriFieldTypeDate
)
-
pollutant
(
alias: pollutant, type: esriFieldTypeInteger
)
-
agg
(
length: 50, alias: agg, type: esriFieldTypeString
)
-
pollutant_desc
(
length: 100, alias: pollutant_desc, type: esriFieldTypeString
)
-
agg_desc
(
length: 150, alias: agg_desc, type: esriFieldTypeString
)
-
model
(
length: 100, alias: model, type: esriFieldTypeString
)
Default Mosaic Method: ByAttribute
Allowed Mosaic Methods: ByAttribute,NorthWest,Center,LockRaster,Nadir,Viewpoint,Seamline,None
SortField: MaxPS
SortValue: 0
Mosaic Operator: First
Default Compression Quality: 80
Default Resampling Method: Bilinear
Max Record Count: 1000
Max Image Height: 4100
Max Image Width: 15000
Max Download Image Count: 20
Max Mosaic Image Count: 20
Allow Raster Function: true
Allow Copy: true
Allow Analysis: true
Allow Compute TiePoints: false
Supports Statistics: true
Supports Advanced Queries: true
Use StandardizedQueries: false
Raster Type Infos:
Name: Raster Dataset
Description: Supports all ArcGIS Raster Datasets
Help:
Has Raster Attribute Table: false
Edit Fields Info: N/A
Ownership Based AccessControl For Rasters: N/A
Child Resources:
Info
Histograms
Statistics
Key Properties
Legend
Raster Function Infos
Supported Operations:
Export Image
Query
Identify
Measure
Compute Histograms
Compute Statistics Histograms
Get Samples
Compute Class Statistics
Query GPS Info
Find Images
Image to Map
Map to Image
Measure from Image
Image to Map Multiray
Query Boundary
Compute Pixel Location
Compute Angles
Validate
Project