<?xml version="1.0" encoding="UTF-8" standalone="no"?>
<metadata xml:lang="es">
<Esri>
<CreaDate>20161024</CreaDate>
<CreaTime>13271800</CreaTime>
<ArcGISFormat>1.0</ArcGISFormat>
<ArcGISstyle>INSPIRE Metadata Directive</ArcGISstyle>
<SyncOnce>FALSE</SyncOnce>
<DataProperties>
<lineage>
<Process Date="20161024" Time="132718" ToolSource="c:\program files (x86)\arcgis\desktop10.2\ArcToolbox\Toolboxes\Spatial Analyst Tools.tbx\ExtractByMask">ExtractByMask N_KEO_N_smooth.tif clc12_V18_5_land_mask.tif M:\Outc_data\2016\EEA_Forest_indicators\qaqc\Naturalness-species-KEO.tif</Process>
</lineage>
<itemProps>
<itemName Sync="TRUE">eea_r_3035_1_km_naturalness-species-keo_2011.tif</itemName>
<itemLocation>
<linkage Sync="TRUE">file://M:\Outc_data\2016\EEA_Forest_indicators\qaqc\eea_r_3035_1_km_naturalness-species-keo_2011\eea_r_3035_1_km_naturalness-species-keo_2011.tif</linkage>
<protocol Sync="TRUE">Local Area Network</protocol>
</itemLocation>
<imsContentType Sync="TRUE">002</imsContentType>
<nativeExtBox>
<westBL Sync="TRUE">4755216.139146</westBL>
<eastBL Sync="TRUE">5664216.139146</eastBL>
<southBL Sync="TRUE">2295476.774752</southBL>
<northBL Sync="TRUE">3120476.774752</northBL>
<exTypeCode Sync="TRUE">1</exTypeCode>
</nativeExtBox>
</itemProps>
<coordRef>
<type Sync="TRUE">Projected</type>
<geogcsn Sync="TRUE">GCS_ETRS_1989</geogcsn>
<csUnits Sync="TRUE">Linear Unit: Meter (1.000000)</csUnits>
<projcsn Sync="TRUE">ETRS_1989_LAEA</projcsn>
<peXml Sync="TRUE">&lt;ProjectedCoordinateSystem xsi:type='typens:ProjectedCoordinateSystem' xmlns:xsi='http://www.w3.org/2001/XMLSchema-instance' xmlns:xs='http://www.w3.org/2001/XMLSchema' xmlns:typens='http://www.esri.com/schemas/ArcGIS/10.1'&gt;&lt;WKT&gt;PROJCS[&amp;quot;ETRS_1989_LAEA&amp;quot;,GEOGCS[&amp;quot;GCS_ETRS_1989&amp;quot;,DATUM[&amp;quot;D_ETRS_1989&amp;quot;,SPHEROID[&amp;quot;GRS_1980&amp;quot;,6378137.0,298.257222101]],PRIMEM[&amp;quot;Greenwich&amp;quot;,0.0],UNIT[&amp;quot;Degree&amp;quot;,0.0174532925199433]],PROJECTION[&amp;quot;Lambert_Azimuthal_Equal_Area&amp;quot;],PARAMETER[&amp;quot;false_easting&amp;quot;,4321000.0],PARAMETER[&amp;quot;false_northing&amp;quot;,3210000.0],PARAMETER[&amp;quot;central_meridian&amp;quot;,10.0],PARAMETER[&amp;quot;latitude_of_origin&amp;quot;,52.0],UNIT[&amp;quot;Meter&amp;quot;,1.0],AUTHORITY[&amp;quot;EPSG&amp;quot;,3035]]&lt;/WKT&gt;&lt;XOrigin&gt;-8426600&lt;/XOrigin&gt;&lt;YOrigin&gt;-9526700&lt;/YOrigin&gt;&lt;XYScale&gt;353290001.83332509&lt;/XYScale&gt;&lt;ZOrigin&gt;-100000&lt;/ZOrigin&gt;&lt;ZScale&gt;10000&lt;/ZScale&gt;&lt;MOrigin&gt;-100000&lt;/MOrigin&gt;&lt;MScale&gt;10000&lt;/MScale&gt;&lt;XYTolerance&gt;0.001&lt;/XYTolerance&gt;&lt;ZTolerance&gt;0.001&lt;/ZTolerance&gt;&lt;MTolerance&gt;0.001&lt;/MTolerance&gt;&lt;HighPrecision&gt;true&lt;/HighPrecision&gt;&lt;WKID&gt;3035&lt;/WKID&gt;&lt;LatestWKID&gt;3035&lt;/LatestWKID&gt;&lt;/ProjectedCoordinateSystem&gt;</peXml>
</coordRef>
<RasterProperties>
<General>
<PixelDepth Sync="TRUE">32</PixelDepth>
<HasColormap Sync="TRUE">FALSE</HasColormap>
<CompressionType Sync="TRUE">None</CompressionType>
<NumBands Sync="TRUE">1</NumBands>
<Format Sync="TRUE">TIFF</Format>
<HasPyramids Sync="TRUE">FALSE</HasPyramids>
<SourceType Sync="TRUE">continuous</SourceType>
<PixelType Sync="TRUE">floating point</PixelType>
<NoDataValue Sync="TRUE">-3.4028235e+038</NoDataValue>
</General>
</RasterProperties>
</DataProperties>
<SyncDate>20161031</SyncDate>
<SyncTime>11103200</SyncTime>
<ModDate>20161031</ModDate>
<ModTime>11103200</ModTime>
</Esri>
<dataIdInfo>
<envirDesc Sync="TRUE">Microsoft Windows 7 Version 6.1 (Build 7601) Service Pack 1; Esri ArcGIS 10.2.2.3552</envirDesc>
<dataLang>
<languageCode Sync="TRUE" value="spa"/>
<countryCode Sync="TRUE" value="ESP"/>
</dataLang>
<idCitation>
<resTitle Sync="TRUE">naturalness_species_keo_2011</resTitle>
<presForm>
<PresFormCd Sync="TRUE" value="005"/>
</presForm>
</idCitation>
<spatRpType>
<SpatRepTypCd Sync="TRUE" value="002"/>
</spatRpType>
<dataExt>
<geoEle>
<GeoBndBox esriExtentType="search">
<exTypeCode Sync="TRUE">1</exTypeCode>
<westBL Sync="TRUE">15.371986</westBL>
<eastBL Sync="TRUE">28.828222</eastBL>
<northBL Sync="TRUE">51.029823</northBL>
<southBL Sync="TRUE">42.438840</southBL>
</GeoBndBox>
</geoEle>
</dataExt>
<idAbs>In this calculation on Carpathian region, the species of interest were selected from the distribution maps from the European Forest Inventory (Brus, et al., 2011), grouped following the spatial distribution provided by (Barbati et al., 2013) and divided by percentage of available forest obtained from the PALSAR-2 forest/ non-forest map (ALOS-2/ALOS, Earth Observation Research Center, JAXA).
More details on the creation of this indicator are available in the final report "ETCULS1835_RegionalCoperation_CarpathiansReport.pdf".
The document "ForestN.docx" available for download provides information about the quality checks performed on the dataset.
References:
Developing a forest naturalness indicator for Europe. Concept and methodology for a high nature value (HNV) forest indicator (EEA Technical report No 13/2014) available on https://www.eea.europa.eu/publications/developing-a-forest-naturalness-indicator.</idAbs>
<idPurp/>
<idCredit>Secretariat of Carpathian Convention; Member States of the Carpathian Convention; European Topic Centre Digitalisation and Innovation; European Environment Agency (EEA)</idCredit>
<resConst>
<Consts>
<useLimit/>
</Consts>
</resConst>
<searchKeys>
<keyword>FISE</keyword>
<keyword> Carpathian</keyword>
<keyword> naturalness</keyword>
<keyword> species</keyword>
<keyword> forests</keyword>
<keyword> old growth forests</keyword>
<keyword> primary forests</keyword>
</searchKeys>
</dataIdInfo>
<mdLang>
<languageCode Sync="TRUE" value="spa"/>
<countryCode Sync="TRUE" value="ESP"/>
</mdLang>
<mdChar>
<CharSetCd Sync="TRUE" value="004"/>
</mdChar>
<distInfo>
<distFormat>
<formatName Sync="TRUE">Raster Dataset</formatName>
</distFormat>
</distInfo>
<mdHrLv>
<ScopeCd Sync="TRUE" value="005"/>
</mdHrLv>
<mdHrLvName Sync="TRUE">dataset</mdHrLvName>
<refSysInfo>
<RefSystem>
<refSysID>
<identCode Sync="TRUE" code="3035"/>
<idCodeSpace Sync="TRUE">EPSG</idCodeSpace>
<idVersion Sync="TRUE">8.2.6</idVersion>
</refSysID>
</RefSystem>
</refSysInfo>
<spatRepInfo>
<Georect>
<cellGeo>
<CellGeoCd Sync="TRUE" value="002"/>
</cellGeo>
<numDims Sync="TRUE">2</numDims>
<tranParaAv Sync="TRUE">1</tranParaAv>
<chkPtAv Sync="TRUE">0</chkPtAv>
<cornerPts>
<pos Sync="TRUE">4755216.139146 2295476.774752</pos>
</cornerPts>
<cornerPts>
<pos Sync="TRUE">4755216.139146 3120476.774752</pos>
</cornerPts>
<cornerPts>
<pos Sync="TRUE">5664216.139146 3120476.774752</pos>
</cornerPts>
<cornerPts>
<pos Sync="TRUE">5664216.139146 2295476.774752</pos>
</cornerPts>
<centerPt>
<pos Sync="TRUE">5209716.139146 2707976.774752</pos>
</centerPt>
<axisDimension type="002">
<dimSize Sync="TRUE">909</dimSize>
<dimResol>
<value Sync="TRUE" uom="Meter">1000.000000</value>
</dimResol>
</axisDimension>
<axisDimension type="001">
<dimSize Sync="TRUE">825</dimSize>
<dimResol>
<value Sync="TRUE" uom="Meter">1000.000000</value>
</dimResol>
</axisDimension>
<ptInPixel>
<PixOrientCd Sync="TRUE" value="001"/>
</ptInPixel>
</Georect>
</spatRepInfo>
<contInfo>
<ImgDesc>
<contentTyp>
<ContentTypCd Sync="TRUE" value="001"/>
</contentTyp>
<covDim>
<Band>
<dimDescrp Sync="TRUE">Band_1</dimDescrp>
<maxVal Sync="TRUE">1.000000</maxVal>
<minVal Sync="TRUE">0.000000</minVal>
<bitsPerVal Sync="TRUE">32</bitsPerVal>
<valUnit>
<UOM type="length"/>
</valUnit>
</Band>
</covDim>
</ImgDesc>
</contInfo>
<mdDateSt Sync="TRUE">20161031</mdDateSt>
</metadata>
