{
 "currentVersion": 11.5,
 "serviceDescription": "This dataset refers to the Richness index of Species and Habitats of Conservation Concern indicator. This indicator has been developed to be used as a sub-indicator for contributing to the identification of the High Nature Value (HNV) Forest Areas as it will be integrated with other sub-indicators of horizontal structure, management and naturalness to generate the final composite indicator. It is composed itself of three sub-indicators: \u201cForest Non-bird species\u201d, \u201cForest bird species\u201d and \u201cForest habitats\u201d. All the three sub-indicators build on distribution data from the reporting of habitat and species conservation status under Article 17 of the Habitats Directive and Article 12 of the Birds directive which describe their distribution at 10km grid resolution. The forest species and the forest habitats proposed to be used for the HNV forest area identification were selected based on expert judgement (ETC/BD) and raster files reporting the count of forest species and habitats were created. At this stage, no weight is applied based on Habitat and Species prioritization, conservation status or endemism.\nThe sub-indicators were then normalized for each European forest type and successively combined not assigning any specific weight to a particular sub-indicator.\nThe values for this indicator, present in this dataset, ranges between 0 and 1. The values close to 1 mean high presence of habitats and species related to forest, whereas the lower richness are closer to 0. It covers the forested areas of the EU 27 (2007) Member States except for Cyprus (data from Croatia will be reported starting from the next update regarding the period 2013-2018).",
 "name": "FISE/Forest_Richness_Index",
 "description": "This dataset refers to the Richness index of Species and Habitats of Conservation Concern indicator. This indicator has been developed to be used as a sub-indicator for contributing to the identification of the High Nature Value (HNV) Forest Areas as it will be integrated with other sub-indicators of horizontal structure, management and naturalness to generate the final composite indicator. It is composed itself of three sub-indicators: \u201cForest Non-bird species\u201d, \u201cForest bird species\u201d and \u201cForest habitats\u201d. All the three sub-indicators build on distribution data from the reporting of habitat and species conservation status under Article 17 of the Habitats Directive and Article 12 of the Birds directive which describe their distribution at 10km grid resolution. The forest species and the forest habitats proposed to be used for the HNV forest area identification were selected based on expert judgement (ETC/BD) and raster files reporting the count of forest species and habitats were created. At this stage, no weight is applied based on Habitat and Species prioritization, conservation status or endemism.\nThe sub-indicators were then normalized for each European forest type and successively combined not assigning any specific weight to a particular sub-indicator.\nThe values for this indicator, present in this dataset, ranges between 0 and 1. The values close to 1 mean high presence of habitats and species related to forest, whereas the lower richness are closer to 0. It covers the forested areas of the EU 27 (2007) Member States except for Cyprus (data from Croatia will be reported starting from the next update regarding the period 2013-2018).",
 "extent": {
  "xmin": -2824433.5113000013,
  "ymin": -3076239.8067999985,
  "xmax": 1.0026108833999999E7,
  "ymax": 6405005.3475,
  "spatialReference": {
   "wkid": 3035,
   "latestWkid": 3035
  }
 },
 "initialExtent": {
  "xmin": -2824433.5113000013,
  "ymin": -3076239.8067999985,
  "xmax": 1.0026108833999999E7,
  "ymax": 6405005.3475,
  "spatialReference": {
   "wkid": 3035,
   "latestWkid": 3035
  }
 },
 "fullExtent": {
  "xmin": -2824433.5113000013,
  "ymin": -3076239.8067999985,
  "xmax": 1.0026108833999999E7,
  "ymax": 6405005.3475,
  "spatialReference": {
   "wkid": 3035,
   "latestWkid": 3035
  }
 },
 "sortableFields": "",
 "bandCount": 1,
 "pixelType": "F32",
 "minValues": [
  0
 ],
 "maxValues": [
  0.952827513217926
 ],
 "meanValues": [
  0.3166535342185356
 ],
 "stdvValues": [
  0.15768695753198236
 ],
 "serviceProperties": "Center<\/MosaicMethod>First<\/MosaicOperator>true<\/SortAscending><\/LockImageID><\/TileOrderField>0<\/TileOrderBase>0.000000<\/AvgImageSpacingX>0.000000<\/AvgImageSpacingY>0.0<\/ViewPointX>0.0<\/ViewPointY>0.0<\/ViewPointDefShiftX>0.0<\/ViewPointDefShiftY>None<\/CompressionMethod>75<\/CompressionQuality>0.010000<\/CompressionTolerance>Bilinear<\/SamplingMethod><\/ImageServiceProperties><\/ImageServer>",
 "allowedFields": "",
 "hasMultidimensions": false,
 "pixelSizeX": 999.9643876196405,
 "pixelSizeY": 999.9203917211557,
 "meanPixelSize": 999.9423896703981,
 "datasetFormat": "FGDBR",
 "uncompressedSize": 487412728,
 "blockWidth": 128,
 "blockHeight": 128,
 "compressionType": "LZ77",
 "bandNames": [
  "Band_1"
 ],
 "allowCopy": true,
 "allowAnalysis": true,
 "itemAccess": false,
 "inspectionCapabilities": "",
 "minPixelSize": 0,
 "maxPixelSize": 0,
 "copyrightText": "European Environment Agency (EEA)",
 "serviceDataType": "esriImageServiceDataTypeGeneric",
 "serviceSourceType": "esriImageServiceSourceTypeDataset",
 "objectIdField": "",
 "fields": [],
 "capabilities": "Mensuration,Image,Metadata",
 "defaultMosaicMethod": "Center",
 "allowedMosaicMethods": "",
 "sortField": "",
 "sortValue": null,
 "sortAscending": true,
 "mosaicOperator": "First",
 "defaultCompressionQuality": 75,
 "defaultResamplingMethod": "Bilinear",
 "maxImageHeight": 4100,
 "maxImageWidth": 15000,
 "allowRasterFunction": true,
 "rasterFunctionInfos": [
  {
   "name": "ForestRichnessIndex",
   "description": "A raster function template.",
   "help": ""
  },
  {
   "name": "None",
   "description": "",
   "help": ""
  }
 ],
 "rasterTypeInfos": [
  {
   "name": "Raster Dataset",
   "description": "Supports all ArcGIS Raster Datasets",
   "help": ""
  }
 ],
 "mensurationCapabilities": "Basic",
 "hasHistograms": true,
 "hasColormap": false,
 "hasRasterAttributeTable": false,
 "minScale": 0,
 "maxScale": 0,
 "exportTilesAllowed": false,
 "supportsStatistics": false,
 "supportsAdvancedQueries": false,
 "editFieldsInfo": null,
 "ownershipBasedAccessControlForRasters": null,
 "allowComputeTiePoints": false,
 "useStandardizedQueries": false,
 "advancedQueryCapabilities": {
  "useStandardizedQueries": false,
  "supportsStatistics": false,
  "supportsOrderBy": false,
  "supportsDistinct": false,
  "supportsPagination": false
 },
 "spatialReference": {
  "wkid": 3035,
  "latestWkid": 3035
 },
 "resampling": false
}
